BEGIN:VCALENDAR
VERSION:2.0
PRODID:-//wp-events-plugin.com//7.2.3.1//EN
TZID:America/Los_Angeles
X-WR-TIMEZONE:America/Los_Angeles
BEGIN:VEVENT
UID:35-243@cais.r9-asce.org
DTSTART;TZID=America/Los_Angeles:20260424T080000
DTEND;TZID=America/Los_Angeles:20260424T100000
DTSTAMP:20260415T191120Z
URL:https://cais.r9-asce.org/events/2026-cais-technical-tour-san-bruno-wat
 er-quality-control-plant/
SUMMARY:CAIS 2026 Technical Tour - San Bruno Water Quality Control Plant
DESCRIPTION:South San Francisco – San Bruno Water Quality Control Plant\n
 \n 	Date: Friday\, April 24\, 2026\n 	Time: 8:00 AM to 10:00 AM\n\nLocated
  adjacent to San Francisco Bay on Colma Creek\, this multi-award-winning f
 acility provides secondary wastewater treatment for the cities of South Sa
 n Francisco\, San Bruno\, and Colma. It also provides the dechlorination t
 reatment of chlorinated effluent for the cities of Burlingame\, Millbrae\,
  and the San Francisco International Airport prior to discharging the trea
 ted wastewater into San Francisco Bay.\n\nMeeting point: 195 Belle Air Rd\
 , South San Francisco\, CA 94080\n\nPPE: Closed-toe shoes and long pants\n
 \nATTENDEES MUST PURCHASE TICKET FOR SYMPOSIUM TO BE ELIGIBLE TO ATTEND TO
 UR!\n\nREGISTRATION CLOSES APRIL 13 AT 5:00PM\nImportant Notice: No Refund
 s for Cancellations – All Sales Final We’re excited to have you join 
 us for this special event! Please note that all ticket sales are final\, 
 and we are unable to offer refunds for cancellations. This is because ou
 r event requires advance commitments for catering\, venue space\, and othe
 r logistics to ensure a seamless experience for all attendees.
ATTACH;FMTTYPE=image/jpeg:https://cais.r9-asce.org/wp-content/uploads/site
 s/35/2026/01/SanBruno-Featured.png
CATEGORIES:Region 9,San Francisco Section
LOCATION:South San Francisco - San Bruno Water Quality Control Plant\, 195 
 Belle Air Rd\, South San Francisco \, CA\, 94080\, United States
GEO:37.642435;-122.396109
X-APPLE-STRUCTURED-LOCATION;VALUE=URI;X-ADDRESS=195 Belle Air Rd\, South Sa
 n Francisco \, CA\, 94080\, United States;X-APPLE-RADIUS=100;X-TITLE=South
  San Francisco - San Bruno Water Quality Control Plant:geo:37.642435,-122.
 396109
END:VEVENT
BEGIN:VTIMEZONE
TZID:America/Los_Angeles
X-LIC-LOCATION:America/Los_Angeles
BEGIN:DAYLIGHT
DTSTART:20260308T030000
TZOFFSETFROM:-0800
TZOFFSETTO:-0700
TZNAME:PDT
END:DAYLIGHT
END:VTIMEZONE
END:VCALENDAR